Workbook
Name Bjelovarsko_bilogorska: Baza!$F$2:$F$24
Name Brodsko_posavska: Baza!$G$2:$G$29
Name Dubrovačko_neretvanska: Baza!$H$2:$H$23
Name Grad_Zagreb: Baza!$I$2:$I$2
Name Istarska: Baza!$J$2:$J$42
Name Karlovačka: Baza!$K$2:$K$23
Name Koprivničko_križevačka: Baza!$L$2:$L$26
Name Krapinsko_zagorska: Baza!$M$2:$M$33
Name kvalifikacija: Sheet1!$C$1:$C$7
Name Ličko_senjska: Baza!$N$2:$N$13
Name Međimurska: Baza!$O$2:$O$26
Name Osječko_baranjska: Baza!$P$2:$P$43
Name Požeško_slavonska: Baza!$Q$2:$Q$11
Name Primorsko_goranska: Baza!$R$2:$R$37
Name Sisačko_moslavačka: Baza!$S$2:$S$20
Name Splitsko_dalmatinska: Baza!$T$2:$T$56
Name Sportovi: Baza!$AB$2:$AB$162
Name Šibensko_kninska: Baza!$U$2:$U$21
Name Varaždinska: Baza!$V$2:$V$29
Name Virovitičko_podravska: Baza!$W$2:$W$17
Name Vukovarsko_srijemska: Baza!$X$2:$X$32
Name Zadarska: Baza!$Y$2:$Y$35
Name Zagrebačka: Baza!$Z$2:$Z$35
Name Županija1: Baza!$F$1:$Z$1

Sheet Obrazac proračuna
A1: Podaci o prijavitelju
A2: Županija: | B2: Bjelovarsko-bilogorska
A3: Naziv županijske sportske zajednice: | B3: =IFERROR(INDEX(Baza!AE2:AE22,MATCH('Obrazac proračuna'!B2,Baza!AD2:AD22,0)),"Odabrati županiju") -> ŠPORTSKA ZAJEDNICA BJELOVARSKO-BILOGORSKE ŽUPANIJE
A4: OIB županijske sportke zajednice: | B4: =IFERROR(INDEX(Baza!AF2:AF22,MATCH('Obrazac proračuna'!B2,Baza!AD2:AD22,0)),"Odabrati županiju") -> 31756452763
A5: Proračun za godinu: | B5: 2027.
A7: Obrazac proračuna
A8: =B3 -> ŠPORTSKA ZAJEDNICA BJELOVARSKO-BILOGORSKE ŽUPANIJE
A9: Ukupan iznos za stručni rad od MINTS | B9: =SUM('Troškovi stručnog kadra'!D:D) -> 0
A10: Ukupan iznos za stručni rad od ŽSZ | B10: =SUM('Troškovi stručnog kadra'!E:E) -> 0
A11: Ukupan iznos za sportsku opremu od MINTS | B11: =SUM('Troškovi opreme'!D:D) -> 0
A12: Ukupan iznos za sportsku opremu od ŽSZ | B12: =SUM('Troškovi opreme'!E:E) -> 0
A13: Ukupan iznos programa od MINTS | B13: =SUM(B9,B11) -> 0
A14: Ukupan iznos programa od ŽSZ | B14: =SUM(B10,B12) -> 0
A15: Cjelokupni iznos programa | B15: =SUM(B9:B12) -> 0
A17: Postotak financiranja stručnog kadra MINTS
A18: Ministarstvo turizma i sporta | B18: =IF(B9=0,"0,00%",B9/$B$13) -> 0,00%
A19: (najmanje 10% sredstava mora biti namijenjeno za troškove stručnog kadra)
A21: Postotak financiranja sportske opreme MINTS
A22: Ministarstvo turizma i sporta | B22: =IF(B11=0,"0,00%",B11/$B$13) -> 0,00%
A23: (najmanje 10% sredstava mora biti namijenjeno za troškove sportske opreme)
A25: Postotak financiranja cjelokupnog programa
A26: Ministarstvo turizma i sporta | B26: =IF(SUM(B9,B11)=0,"0,00%",B13/$B$15) -> 0,00%
A27: Županijska sportska zajednica | B27: =IF(SUM(B10,B12)=0,"0,00%",B14/$B$15) -> 0,00%
A29: Skraćenica | B29: Značenje
A30: MINTS | B30: Ministarstvo turizma i sporta
A31: ŽSZ | B31: Županijska sportska zajednica

Sheet Troškovi stručnog kadra
A1: Trošak stručnog kadra
A2: Ime i prezime | B2: OIB | C2: Kvalifikacija | D2: Iznos MINTS | E2: Iznos ŽSZ

Sheet Troškovi opreme
A1: Trošak sportske opreme
A2: Oprema (naziv i vrsta) | B2: Korisnik stavke (zajednica, članica itd) | C2: Količina | D2: Iznos MINTS | E2: Iznos ŽSZ

Sheet Tablica aktivnosti
A1: Tablica aktivnosti
A2: (sukladno navedenom planu i programu iz aktivnosti i stavkama iz Obrasca proračuna)
A3: Zajednica ili članica (članica članice) | B3: Sport | C3: Aktivnost | D3: Područje provedbe (općina, grad…) | E3: Indeks razvijenosti | G3: Indeks razvijenosti | H3: Broj članica/članica
E4: =IFERROR(INDEX(Baza!C:C,MATCH(Table4[[#This Row],[Područje provedbe (općina, grad…)]],Baza!A:A,0)),"") | G4: 8 | H4: =COUNTIF(E:E,G4) -> 0 | I4: =IFERROR(H4/$I$3,"0,00%") -> 0,00%
E5: =IFERROR(INDEX(Baza!C:C,MATCH(Table4[[#This Row],[Područje provedbe (općina, grad…)]],Baza!A:A,0)),"") | G5: 7 | H5: =COUNTIF(E:E,G5) -> 0 | I5: =IFERROR(H5/$I$3,"0,00%") -> 0,00%
E6: =IFERROR(INDEX(Baza!C:C,MATCH(Table4[[#This Row],[Područje provedbe (općina, grad…)]],Baza!A:A,0)),"") | G6: 6 | H6: =COUNTIF(E:E,G6) -> 0 | I6: =IFERROR(H6/$I$3,"0,00%") -> 0,00%
E7: =IFERROR(INDEX(Baza!C:C,MATCH(Table4[[#This Row],[Područje provedbe (općina, grad…)]],Baza!A:A,0)),"") | G7: 5 | H7: =COUNTIF(E:E,G7) -> 0 | I7: =IFERROR(H7/$I$3,"0,00%") -> 0,00%
E8: =IFERROR(INDEX(Baza!C:C,MATCH(Table4[[#This Row],[Područje provedbe (općina, grad…)]],Baza!A:A,0)),"") | G8: 4 | H8: =COUNTIF(E:E,G8) -> 0 | I8: =IFERROR(H8/$I$3,"0,00%") -> 0,00%
E9: =IFERROR(INDEX(Baza!C:C,MATCH(Table4[[#This Row],[Područje provedbe (općina, grad…)]],Baza!A:A,0)),"") | G9: 3 | H9: =COUNTIF(E:E,G9) -> 0 | I9: =IFERROR(H9/$I$3,"0,00%") -> 0,00%
E10: =IFERROR(INDEX(Baza!C:C,MATCH(Table4[[#This Row],[Područje provedbe (općina, grad…)]],Baza!A:A,0)),"") | G10: 2 | H10: =COUNTIF(E:E,G10) -> 0 | I10: =IFERROR(H10/$I$3,"0,00%") -> 0,00%
E11: =IFERROR(INDEX(Baza!C:C,MATCH(Table4[[#This Row],[Područje provedbe (općina, grad…)]],Baza!A:A,0)),"") | G11: 1 | H11: =COUNTIF(E:E,G11) -> 0 | I11: =IFERROR(H11/$I$3,"0,00%") -> 0,00%
E12: =IFERROR(INDEX(Baza!C:C,MATCH(Table4[[#This Row],[Područje provedbe (općina, grad…)]],Baza!A:A,0)),"") | G12: * Tablica infromativnog karaktera
E13: =IFERROR(INDEX(Baza!C:C,MATCH(Table4[[#This Row],[Područje provedbe (općina, grad…)]],Baza!A:A,0)),"")
E14: =IFERROR(INDEX(Baza!C:C,MATCH(Table4[[#This Row],[Područje provedbe (općina, grad…)]],Baza!A:A,0)),"")
E15: =IFERROR(INDEX(Baza!C:C,MATCH(Table4[[#This Row],[Područje provedbe (općina, grad…)]],Baza!A:A,0)),"")
E16: =IFERROR(INDEX(Baza!C:C,MATCH(Table4[[#This Row],[Područje provedbe (općina, grad…)]],Baza!A:A,0)),"")
E17: =IFERROR(INDEX(Baza!C:C,MATCH(Table4[[#This Row],[Područje provedbe (općina, grad…)]],Baza!A:A,0)),"")
E18: =IFERROR(INDEX(Baza!C:C,MATCH(Table4[[#This Row],[Područje provedbe (općina, grad…)]],Baza!A:A,0)),"")
E19: =IFERROR(INDEX(Baza!C:C,MATCH(Table4[[#This Row],[Područje provedbe (općina, grad…)]],Baza!A:A,0)),"")
E20: =IFERROR(INDEX(Baza!C:C,MATCH(Table4[[#This Row],[Područje provedbe (općina, grad…)]],Baza!A:A,0)),"")
E21: =IFERROR(INDEX(Baza!C:C,MATCH(Table4[[#This Row],[Područje provedbe (općina, grad…)]],Baza!A:A,0)),"")
E22: =IFERROR(INDEX(Baza!C:C,MATCH(Table4[[#This Row],[Područje provedbe (općina, grad…)]],Baza!A:A,0)),"")
E23: =IFERROR(INDEX(Baza!C:C,MATCH(Table4[[#This Row],[Područje provedbe (općina, grad…)]],Baza!A:A,0)),"")
E24: =IFERROR(INDEX(Baza!C:C,MATCH(Table4[[#This Row],[Područje provedbe (općina, grad…)]],Baza!A:A,0)),"")
... E400: =IFERROR(INDEX(Baza!C:C,MATCH(Table4[[#This Row],[Područje provedbe (općina, grad…)]],Baza!A:A,0)),"")

Sheet Baza
A1: Jedinica lokalne samouprave (JLS) | B1: Županija | C1: Razvojna skupina JLS | F1: Bjelovarsko-bilogorska | G1: Brodsko-posavska | H1: Dubrovačko-neretvanska | I1: Grad-Zagreb | J1: Istarska | K1: Karlovačka | L1: Koprivničko-križevačka | M1: Krapinsko-zagorska | N1: Ličko-senjska | O1: Međimurska | P1: Osječko-baranjska | Q1: Požeško-slavonska | R1: Primorsko-goranska | S1: Sisačko-moslavačka | T1: Splitsko-dalmatinska | U1: Šibensko-kninska | V1: Varaždinska | W1: Virovitičko-podravska | X1: Vukovarsko-srijemska | Y1: Zadarska | Z1: Zagrebačka | AB1: Sportovi | AD1: Županija | AE1: Zajednica | AF1: OIB
A2: Andrijaševci | B2: Vukovarsko-srijemska | C2: 3 | F2: Berek | G2: Bebrina | H2: Blato | I2: Grad Zagreb | J2: Bale – Valle | K2: Barilović | L2: Drnje | M2: Bedekovčina | N2: Brinje | O2: Belica | P2: Antunovac | Q2: Brestovac | R2: Bakar | S2: Donji Kukuruzari | T2: Baška Voda | U2: Bilice | V2: Bednja | W2: Crnac | X2: Andrijaševci | Y2: Benkovac | Z2: Bedenica | AB2: Aikido | AD2: Bjelovarsko-bilogorska | AE2: ŠPORTSKA ZAJEDNICA BJELOVARSKO-BILOGORSKE ŽUPANIJE | AF2: 31756452763
A3: Antunovac | B3: Osječko-baranjska | C3: 5 | F3: Bjelovar | G3: Brodski Stupnik | H3: Dubrovačko Primorje | J3: Barban | K3: Bosiljevo | L3: Đelekovec | M3: Budinščina | N3: Donji Lapac | O3: Čakovec | P3: Beli Manastir | Q3: Čaglin | R3: Baška | S3: Dvor | T3: Bol | U3: Biskupija | V3: Beretinec | W3: Čačinci | X3: Babina Greda | Y3: Bibinje | Z3: Bistra | AB3: Akademski sport | AD3: Brodsko-posavska | AE3: ZAJEDNICA ŠPORTSKIH UDRUGA I SAVEZA BRODSKO-POSAVSKE ŽUPANIJE | AF3: 74840917935
A4: Babina Greda | B4: Vukovarsko-srijemska | C4: 1 | F4: Čazma | G4: Bukovlje | H4: Dubrovnik | J4: Brtonigla – Verteneglio | K4: Cetingrad | L4: Đurđevac | M4: Desinić | N4: Gospić | O4: Dekanovec | P4: Belišće | Q4: Jakšić | R4: Brod Moravice | S4: Glina | T4: Brela | U4: Civljane | V4: Breznica | W4: Čađavica | X4: Bogdanovci | Y4: Biograd na Moru | Z4: Brckovljani | AB4: Akrobatski rock'n'roll | AD4: Dubrovačko-neretvanska | AE4: ZAJEDNICA ŠPORTA DUBROVAČKO-NERETVANSKE ŽUPANIJE | AF4: 52579223448
A5: Bakar | B5: Primorsko-goranska | C5: 8 | F5: Daruvar | G5: Cernik | H5: Janjina | J5: Buje – Buie | K5: Draganić | L5: Ferdinandovac | M5: Donja Stubica | N5: Karlobag | O5: Domašinec | P5: Bilje | Q5: Kaptol | R5: Cres | S5: Gvozd | T5: Cista Provo | U5: Drniš | V5: Breznički Hum | W5: Gradina | X5: Borovo | Y5: Galovac | Z5: Brdovec | AB5: Američki nogomet (Football) | AD5: Grad-Zagreb | AE5: SPORTSKI SAVEZ GRADA ZAGREBA | AF5: 73807462275
A6: Bale – Valle | B6: Istarska | C6: 8 | F6: Dežanovac | G6: Davor | H6: Konavle | J6: Buzet | K6: Duga Resa | L6: Gola | M6: Đurmanec | N6: Lovinac | O6: Donja Dubrava | P6: Bizovac | Q6: Kutjevo | R6: Crikvenica | S6: Hrvatska Dubica | T6: Dicmo | U6: Ervenik | V6: Cestica | W6: Lukač | X6: Bošnjaci | Y6: Gračac | Z6: Dubrava | AB6: Atletika | AD6: Istarska | AE6: SPORTSKA ZAJEDNICA ISTARSKE ŽUPANIJE | AF6: 43289879416
A7: Barban | B7: Istarska | C7: 7 | F7: Đulovac | G7: Donji Andrijevci | H7: Korčula | J7: Cerovlje | K7: Generalski Stol | L7: Gornja Rijeka | M7: Gornja Stubica | N7: Novalja | O7: Donji Kraljevec | P7: Čeminac | Q7: Lipik | R7: Čabar | S7: Hrvatska Kostajnica | T7: Dugi Rat | U7: Kijevo | V7: Donja Voća | W7: Mikleuš | X7: Cerna | Y7: Jasenice | Z7: Dubravica | AB7: Atletika za gluhe | AD7: Karlovačka | AE7: ZAJEDNICA ŠPORTOVA KARLOVAČKE ŽUPANIJE | AF7: 30272410287
A8: Barilović | B8: Karlovačka | C8: 5 | F8: Garešnica | G8: Dragalić | H8: Kula Norinska | J8: Fažana – Fasana | K8: Josipdol | L8: Hlebine | M8: Hrašćina | N8: Otočac | O8: Donji Vidovec | P8: Čepin | Q8: Pakrac | R8: Čavle | S8: Jasenovac | T8: Dugopolje | U8: Kistanje | V8: Gornji Kneginec | W8: Nova Bukovica | X8: Drenovci | Y8: Kali | Z8: Dugo Selo | AB8: Automobilizam | AD8: Koprivničko-križevačka | AE8: ZAJEDNICA SPORTOVA KOPRIVNIČKO - KRIŽEVAČKE ŽUPANIJE | AF8: 04027700302
A9: Baška | B9: Primorsko-goranska | C9: 8 | F9: Grubišno Polje | G9: Garčin | H9: Lastovo | J9: Funtana – Fontane | K9: Kamanje | L9: Kalinovac | M9: Hum na Sutli | N9: Perušić | O9: Goričan | P9: Darda | Q9: Pleternica | R9: Delnice | S9: Kutina | T9: Gradac | U9: Knin | V9: Ivanec | W9: Orahovica | X9: Gradište | Y9: Kolan | Z9: Farkaševac | AB9: Badminton | AD9: Krapinsko-zagorska | AE9: ŠPORTSKA ZAJEDNICA KRAPINSKO-ZAGORSKE ŽUPANIJE | AF9: 70227684249
A10: Baška Voda | B10: Splitsko-dalmatinska | C10: 7 | F10: Hercegovac | G10: Gornja Vrba | H10: Lumbarda | J10: Gračišće | K10: Karlovac | L10: Kalnik | M10: Jesenje | N10: Plitvička Jezera | O10: Gornji Mihaljevec | P10: Donja Motičina | Q10: Požega | R10: Dobrinj | S10: Lekenik | T10: Hrvace | U10: Murter-Kornati | V10: Jalžabet | W10: Pitomača | X10: Gunja | Y10: Kukljica | Z10: Gradec | AB10: Badminton za gluhe | AD10: Ličko-senjska | AE10: ZAJEDNICA SPORTOVA LIČKO-SENJSKE ŽUPANIJE | AF10: 57801529695
A11: Bebrina | B11: Brodsko-posavska | C11: 2 | F11: Ivanska | G11: Gornji Bogićevci | H11: Metković | J11: Grožnjan – Grisignana | K11: Krnjak | L11: Kloštar Podravski | M11: Klanjec | N11: Senj | O11: Kotoriba | P11: Donji Miholjac | Q11: Velika | R11: Fužine | S11: Lipovljani | T11: Hvar | U11: Pirovac | V11: Klenovnik | W11: Slatina | X11: Ilok | Y11: Lišane Ostrovičke | Z11: Ivanić-Grad | AB11: Baseball | AD11: Međimurska | AE11: ZAJEDNICA ŠPORTSKIH UDRUGA I SAVEZA MEĐIMURSKE ŽUPANIJE | AF11: 14632349548
A12: Bedekovčina | B12: Krapinsko-zagorska | C12: 6 | F12: Kapela | G12: Gundinci | H12: Mljet | J12: Kanfanar | K12: Lasinja | L12: Koprivnica | M12: Konjščina | N12: Udbina | O12: Mala Subotica | P12: Draž | R12: Jelenje | S12: Majur | T12: Imotski | U12: Primošten | V12: Lepoglava | W12: Sopje | X12: Ivankovo | Y12: Nin | Z12: Jakovlje | AB12: Biatlon | AD12: Osječko-baranjska | AE12: ŠPORTSKA ZAJEDNICA OSJEČKO-BARANJSKE ŽUPANIJE | AF12: 90237892684
A13: Bedenica | B13: Zagrebačka | C13: 6 | F13: Končanica | G13: Klakar | H13: Opuzen | J13: Karojba | K13: Netretić | L13: Koprivnički Bregi | M13: Kraljevec na Sutli | N13: Vrhovine | O13: Mursko Središće | P13: Drenje | R13: Kastav | S13: Martinska Ves | T13: Jelsa | U13: Promina | V13: Ludbreg | W13: Suhopolje | X13: Jarmina | Y13: Novigrad | Z13: Jastrebarsko | AB13: Biciklizam | AD13: Požeško-slavonska | AE13: SPORTSKA ZAJEDNICA POŽEŠKO-SLAVONSKE ŽUPANIJE | AF13: 53346774283
A14: Bednja | B14: Varaždinska | C14: 3 | F14: Nova Rača | G14: Nova Gradiška | H14: Orebić | J14: Kaštelir-Labinci – Castelliere-S. Domenica | K14: Ogulin | L14: Koprivnički Ivanec | M14: Krapina | O14: Nedelišće | P14: Đakovo | R14: Klana | S14: Novska | T14: Kaštela | U14: Rogoznica | V14: Ljubešćica | W14: Špišić Bukovica | X14: Lovas | Y14: Obrovac | Z14: Klinča Sela | AB14: Biljar | AD14: Primorsko-goranska | AE14: ZAJEDNICA SPORTOVA PRIMORSKO-GORANSKE ŽUPANIJE | AF14: 08301637571
A15: Beli Manastir | B15: Osječko-baranjska | C15: 2 | F15: Rovišće | G15: Nova Kapela | H15: Ploče | J15: Kršan | K15: Ozalj | L15: Križevci | M15: Krapinske Toplice | O15: Orehovica | P15: Đurđenovac | R15: Kostrena | S15: Petrinja | T15: Klis | U15: Ružić | V15: Mali Bukovec | W15: Virovitica | X15: Markušica | Y15: Pag | Z15: Kloštar Ivanić | AB15: Bob | AD15: Sisačko-moslavačka | AE15: ZAJEDNICA SPORTSKIH UDRUGA I SAVEZA SISAČKO-MOSLAVAČKE ŽUPANIJE | AF15: 81172490881
A16: Belica | B16: Međimurska | C16: 4 | F16: Severin | G16: Okučani | H16: Pojezerje | J16: Labin | K16: Plaški | L16: Legrad | M16: Kumrovec | O16: Podturen | P16: Erdut | R16: Kraljevica | S16: Popovača | T16: Komiža | U16: Skradin | V16: Martijanec | W16: Voćin | X16: Negoslavci | Y16: Pakoštane | Z16: Krašić | AB16: Boccia | AD16: Splitsko-dalmatinska | AE16: ZAJEDNICA ŠPORTSKIH SAVEZA I UDRUGA SPLITSKO-DALMATINSKE ŽUPANIJE | AF16: 16625380776
A17: Belišće | B17: Osječko-baranjska | C17: 3 | F17: Sirač | G17: Oprisavci | H17: Slivno | J17: Lanišće | K17: Rakovica | L17: Molve | M17: Lobor | O17: Prelog | P17: Ernestinovo | R17: Krk | S17: Sisak | T17: Lećevica | U17: Šibenik | V17: Maruševec | W17: Zdenci | X17: Nijemci | Y17: Pašman | Z17: Kravarsko | AB17: Boćanje | AD17: Šibensko-kninska | AE17: ZAJEDNICA SPORTOVA ŠIBENSKO-KNINSKE ŽUPANIJE | AF17: 13366316451
A18: Benkovac | B18: Zadarska | C18: 4 | F18: Šandrovac | G18: Oriovac | H18: Smokvica | J18: Ližnjan – Lisignano | K18: Ribnik | L18: Novigrad Podravski | M18: Mače | O18: Pribislavec | P18: Feričanci | R18: Lokve | S18: Sunja | T18: Lokvičići | U18: Tisno | V18: Novi Marof | X18: Nuštar | Y18: Polača | Z18: Križ | AB18: Boćanje za gluhe | AD18: Varaždinska | AE18: Sportska zajednica Varaždinske županije Varaždin | AF18: 10782401076
A19: Berek | B19: Bjelovarsko-bilogorska | C19: 1 | F19: Štefanje | G19: Podcrkavlje | H19: Ston | J19: Lupoglav | K19: Saborsko | L19: Novo Virje | M19: Marija Bistrica | O19: Selnica | P19: Gorjani | R19: Lopar | S19: Topusko | T19: Lovreć | U19: Tribunj | V19: Petrijanec | X19: Otok | Y19: Poličnik | Z19: Luka | AB19: Body building | AD19: Virovitičko-podravska | AE19: SPORTSKA ZAJEDNICA VIROVITIČKO-PODRAVSKE ŽUPANIJE | AF19: 53509490295
A20: Beretinec | B20: Varaždinska | C20: 6 | F20: Velika Pisanica | G20: Rešetari | H20: Trpanj | J20: Marčana | K20: Slunj | L20: Peteranec | M20: Mihovljan | O20: Strahoninec | P20: Jagodnjak | R20: Lovran | S20: Velika Ludina | T20: Makarska | U20: Unešić | V20: Sračinec | X20: Privlaka | Y20: Posedarje | Z20: Marija Gorica | AB20: Boks | AD20: Vukovarsko-srijemska | AE20: ŽUPANIJSKI SAVEZ ŠPORTOVA VUKOVARSKO-SRIJEMSKE ŽUPANIJE | AF20: 90684911546
A21: Bibinje | B21: Zadarska | C21: 6 | F21: Velika Trnovitica | G21: Sibinj | H21: Vela Luka | J21: Medulin | K21: Tounj | L21: Podravske Sesvete | M21: Novi Golubovec | O21: Sveta Marija | P21: Kneževi Vinogradi | R21: Mali Lošinj | T21: Marina | U21: Vodice | V21: Sveti Đurđ | X21: Stari Jankovci | Y21: Povljana | Z21: Orle | AB21: Bridž | AD21: Zadarska | AE21: ŠPORTSKA ZAJEDNICA ZADARSKE ŽUPANIJE | AF21: 84097799709
A22: Bilice | B22: Šibensko-kninska | C22: 7 | F22: Veliki Grđevac | G22: Sikirevci | H22: Zažablje | J22: Motovun – Montona | K22: Vojnić | L22: Rasinja | M22: Oroslavje | O22: Sveti Juraj na Bregu | P22: Koška | R22: Malinska-Dubašnica | T22: Milna | V22: Sveti Ilija | X22: Stari Mikanovci | Y22: Preko | Z22: Pisarovina | AB22: Cheer/cheerleading/navijanje | AD22: Zagrebačka | AE22: ZAJEDNICA ŠPORTSKIH UDRUGA I SAVEZA ZAGREBAČKE ŽUPANIJE | AF22: 86461041615
A23: Bilje | B23: Osječko-baranjska | C23: 4 | F23: Veliko Trojstvo | G23: Slavonski Brod | H23: Župa Dubrovačka | J23: Novigrad – Cittanova | K23: Žakanje | L23: Sokolovac | M23: Petrovsko | O23: Sveti Martin na Muri | P23: Levanjska Varoš | R23: Matulji | T23: Muć | V23: Trnovec Bartolovečki | X23: Štitar | Y23: Privlaka | Z23: Pokupsko | AB23: Curling
A24: Biograd na Moru | B24: Zadarska | C24: 8 | F24: Zrinski Topolovac | G24: Slavonski Šamac | J24: Oprtalj – Portole | L24: Sveti Ivan Žabno | M24: Pregrada | O24: Šenkovec | P24: Magadenovac | R24: Mošćenička Draga | T24: Nerežišća | V24: Varaždin | X24: Tompojevci | Y24: Ražanac | Z24: Preseka | AB24: Curling u kolicima
A25: Biskupija | B25: Šibensko-kninska | C25: 1 | G25: Stara Gradiška | J25: Pazin | L25: Sveti Petar Orehovec | M25: Radoboj | O25: Štrigova | P25: Marijanci | R25: Mrkopalj | T25: Okrug | V25: Varaždinske Toplice | X25: Tordinci | Y25: Sali | Z25: Pušća | AB25: Curling za gluhe
A26: Bistra | B26: Zagrebačka | C26: 7 | G26: Staro Petrovo Selo | J26: Pićan | L26: Virje | M26: Stubičke Toplice | O26: Vratišinec | P26: Našice | R26: Novi Vinodolski | T26: Omiš | V26: Veliki Bukovec | X26: Tovarnik | Y26: Stankovci | Z26: Rakovec | AB26: Daljinsko plivanje
A27: Bizovac | B27: Osječko-baranjska | C27: 3 | G27: Velika Kopanica | J27: Poreč – Parenzo | M27: Sveti Križ Začretje | P27: Osijek | R27: Omišalj | T27: Otok | V27: Vidovec | X27: Trpinja | Y27: Starigrad | Z27: Rugvica | AB27: Dizanje utega
A28: Bjelovar | B28: Bjelovarsko-bilogorska | C28: 6 | G28: Vrbje | J28: Pula – Pola | M28: Tuhelj | P28: Petlovac | R28: Opatija | T28: Podbablje | V28: Vinica | X28: Vinkovci | Y28: Sukošan | Z28: Samobor | AB28: Flying disc
A29: Blato | B29: Dubrovačko-neretvanska | C29: 6 | G29: Vrpolje | J29: Raša | M29: Veliko Trgovišće | P29: Petrijevci | R29: Punat | T29: Podgora | V29: Visoko | X29: Vođinci | Y29: Sveti Filip i Jakov | Z29: Stupnik | AB29: Galopski sport
A30: Bogdanovci | B30: Vukovarsko-srijemska | C30: 2 | J30: Rovinj – Rovigno | M30: Zabok | P30: Podgorač | R30: Rab | T30: Podstrana | X30: Vrbanja | Y30: Škabrnja | Z30: Sveta Nedjelja | AB30: Gimnastika
A31: Bol | B31: Splitsko-dalmatinska | C31: 8 | J31: Sveta Nedelja | M31: Zagorska Sela | P31: Podravska Moslavina | R31: Ravna Gora | T31: Postira | X31: Vukovar | Y31: Tkon | Z31: Sveti Ivan Zelina | AB31: Go
A32: Borovo | B32: Vukovarsko-srijemska | C32: 1 | J32: Sveti Lovreč | M32: Zlatar | P32: Popovac | R32: Rijeka | T32: Prgomet | X32: Županja | Y32: Vir | Z32: Velika Gorica | AB32: Goalball
A33: Bosiljevo | B33: Karlovačka | C33: 3 | J33: Sveti Petar u Šumi | M33: Zlatar Bistrica | P33: Punitovci | R33: Skrad | T33: Primorski Dolac | Y33: Vrsi | Z33: Vrbovec | AB33: Golf
A34: Bošnjaci | B34: Vukovarsko-srijemska | C34: 1 | J34: Svetvinčenat | P34: Satnica Đakovačka | R34: Vinodolska Općina | T34: Proložac | Y34: Zadar | Z34: Zaprešić | AB34: Hokej (na travi)
A35: Brckovljani | B35: Zagrebačka | C35: 5 | J35: Tar-Vabriga – Torre-Abrega | P35: Semeljci | R35: Viškovo | T35: Pučišća | Y35: Zemunik Donji | Z35: Žumberak | AB35: Hokej na ledu
A36: Brdovec | B36: Zagrebačka | C36: 7 | J36: Tinjan | P36: Strizivojna | R36: Vrbnik | T36: Runovići | AB36: Hrvanje
A37: Brela | B37: Splitsko-dalmatinska | C37: 7 | J37: Umag – Umago | P37: Šodolovci | R37: Vrbovsko | T37: Seget | AB37: Hrvanje za gluhe
A38: Brestovac | B38: Požeško-slavonska | C38: 2 | J38: Višnjan – Visignano | P38: Trnava | T38: Selca | AB38: Jedrenje
A39: Breznica | B39: Varaždinska | C39: 4 | J39: Vižinada – Visinada | P39: Valpovo | T39: Sinj | AB39: Jet ski
A40: Breznički Hum | B40: Varaždinska | C40: 4 | J40: Vodnjan – Dignano | P40: Viljevo | T40: Solin | AB40: Judo
...

Sheet Sheet6
A3: Count of Razvojna skupina JLS | B3: Column Labels
A4: Row Labels | B4: 1 | C4: 2 | D4: 3 | E4: 4 | F4: 5 | G4: 6 | H4: 7 | I4: 8 | J4: Grand Total
A5: Bjelovarsko-bilogorska | B5: 4 | C5: 9 | D5: 7 | F5: 1 | G5: 2 | J5: 23 | K5: 100
A6: Brodsko-posavska | B6: 7 | C6: 10 | D6: 7 | E6: 3 | F6: 1 | J6: 28 | K6: 100
A7: Dubrovačko-neretvanska | B7: 2 | C7: 2 | E7: 4 | F7: 5 | G7: 4 | H7: 2 | I7: 3 | J7: 22 | K7: 100
A8: Grad Zagreb | I8: 1 | J8: 1 | K8: 100
A9: Istarska | E9: 1 | G9: 6 | H9: 11 | I9: 23 | J9: 41 | K9: 100
A10: Karlovačka | B10: 4 | C10: 3 | D10: 2 | E10: 4 | F10: 5 | G10: 2 | H10: 2 | J10: 22 | K10: 100
A11: Koprivničko-križevačka | C11: 2 | D11: 10 | E11: 7 | F11: 3 | G11: 1 | H11: 1 | I11: 1 | J11: 25 | K11: 100
A12: Krapinsko-zagorska | D12: 2 | E12: 5 | F12: 7 | G12: 12 | H12: 4 | I12: 2 | J12: 32 | K12: 100
A13: Ličko-senjska | B13: 2 | C13: 2 | D13: 2 | E13: 1 | F13: 1 | G13: 2 | H13: 1 | I13: 1 | J13: 12 | K13: 100
A14: Međimurska | D14: 4 | E14: 9 | F14: 7 | G14: 1 | H14: 2 | I14: 2 | J14: 25 | K14: 100
A15: Osječko-baranjska | B15: 15 | C15: 13 | D15: 5 | E15: 6 | F15: 2 | H15: 1 | J15: 42 | K15: 100
A16: Požeško-slavonska | B16: 1 | C16: 3 | D16: 2 | E16: 2 | F16: 1 | G16: 1 | J16: 10 | K16: 100
A17: Primorsko-goranska | C17: 1 | D17: 1 | E17: 3 | F17: 2 | G17: 4 | H17: 8 | I17: 17 | J17: 36 | K17: 100
A18: Sisačko-moslavačka | B18: 7 | C18: 3 | D18: 2 | E18: 4 | F18: 2 | G18: 1 | J18: 19 | K18: 100
A19: Splitsko-dalmatinska | B19: 4 | C19: 7 | D19: 9 | E19: 4 | F19: 7 | G19: 6 | H19: 11 | I19: 7 | J19: 55 | K19: 100
A20: Šibensko-kninska | B20: 6 | C20: 2 | D20: 2 | E20: 1 | F20: 1 | G20: 4 | H20: 4 | J20: 20 | K20: 100
A21: Varaždinska | C21: 1 | D21: 1 | E21: 9 | F21: 6 | G21: 7 | H21: 3 | I21: 1 | J21: 28 | K21: 100
A22: Virovitičko-podravska | B22: 8 | C22: 4 | D22: 2 | F22: 1 | G22: 1 | J22: 16 | K22: 100
A23: Vukovarsko-srijemska | B23: 10 | C23: 8 | D23: 9 | E23: 2 | F23: 1 | G23: 1 | J23: 31 | K23: 100
A24: Zadarska | B24: 1 | D24: 2 | E24: 3 | F24: 8 | G24: 7 | H24: 9 | I24: 4 | J24: 34 | K24: 100
A25: Zagrebačka | B25: 1 | C25: 1 | D25: 3 | E25: 4 | F25: 6 | G25: 5 | H25: 8 | I25: 6 | J25: 34 | K25: 100
A26: Grand Total | B26: 72 | C26: 71 | D26: 72 | E26: 72 | F26: 67 | G26: 67 | H26: 67 | I26: 68 | J26: 556

Sheet Sheet1
A1: I ZAGREBAČKA | C1: Integrirani diplomski sveučilišni studij kineziologije
A2: II KRAPINSKO-ZAGORSKA | C2: Doktorski studij kineziologije
A3: III SISAČKO-MOSLAVAČKA | C3: Integrirani preddiplomski studij kineziologije
A4: IV KARLOVAČKA | C4: Stručni studij za izobrazbu trenera
A5: V VARAŽDINSKA | C5: Specijalistički diplomski stručni studij za izobrazbu trenera
A6: VI KOPRIVNIČKO-KRIŽEVAČKA | C6: Program osposobljavanja kadra u sportu
A7: VII BJELOVARSKO-BILOGORSKA | C7: Priznata inozemna stručna kvalifikacija iz područja sporta (SDUŠ/MINTS)
A8: VIII PRIMORSKO-GORANSKA | C8: Priznata inozemna obrazovna kvalifikacija iz područja sporta (AZVO)
A9: IX LIČKO-SENJSKA
A10: X VIROVITIČKO-PODRAVSKA
A11: XI POŽEŠKO-SLAVONSKA
A12: XII BRODSKO-POSAVSKA
A13: XIII ZADARSKA
A14: XIV OSJEČKO-BARANJSKA
A15: XV ŠIBENSKO-KNINSKA
A16: XVI VUKOVARSKO-SRIJEMSKA
A17: XVII SPLITSKO-DALMATINSKA
A18: XVIII ISTARSKA
A19: XIX DUBROVAČKO-NERETVANSKA
A20: XX MEĐIMURSKA
A21: XXI GRAD ZAGREB
